BEGIN:VCALENDAR
VERSION:2.0
PRODID:-//jEvents 1.5 for Joomla//EN
BEGIN:VEVENT
CALSCALE:GREGORIAN
METHOD:PUBLISH

UID:b74317787a12c4f0f97da35a664de835
CATEGORIES:Testsúly kontroll tanfolyam
SUMMARY:BarnaiR: Fogyókúra helyett... Elhízás, túlsúly és fogyás természetesen
LOCATION:Budapest
DESCRIPTION;ENCODING=QUOTED-PRINTABLE:\n\n&nbsp;\n\n\nFOGYÓKÚRA HELYETT - Elhízás, túlsúly és fogyás term
 észetesen\n\n\n1 napos tanfolyam Budapesten\n\n\n&nbsp;\n\n\nelnevezés: B
 iologika (új medicina) tréning, kifejezetten súlyproblémákra és alakf
 ormálásra\n\n\nlétszámkorlát: 80 fő&nbsp;\n\n\ntréner: Barnai Robert
 o, http://biologika.hu/partnereink/barnai-roberto.html\n\n\nhelyszín: Buda
 pest, szervezés alatt, függ a létszámtól - további információ e-mai
 lben.\n\n\nidőtartam: 1 nap, 2014. április 26.&nbsp;\n\n\nelőfeltétel: 
 5 biológiai természettörvény online, ingyenes előadás megtekintése\n
 \n\njelentkezési határidő: 2014. április 24.&nbsp;\n\n\njelentkezés:&n
 bsp;írásos előregisztráció kötelező&nbsp;a&nbsp;leírás aljánál m
 egadott e-mail címen,&nbsp; &nbsp;\n\n\n&nbsp; &nbsp; &nbsp; &nbsp; &nbsp;
  &nbsp; &nbsp; &nbsp; további kérdéseit is ezen a címen teheti fel. Jel
 entkezés lemondása csak e-mailen lehetséges.&nbsp;\n\n\n\nrészvételi d
 íj: 15.000,- Ft / fő,&nbsp;\n\n\nismétlő vagy korkedvezmény itt nem ve
 hető igénybe.\n\n\n&nbsp;\nHa a megbetegedéseinket tudjuk vezérelni, ir
 ányítani...&nbsp;\n...gondolod, az étvágyunkat, testsúlyunkat nem?\nMi
  lehet a túlsúly, elhízás, és a túlzott étvágy biológiai háttere,
  \nkonfliktus-érzelme és vajon mi a biológiai értelme?\n\nSzeretnél Te
  vagy ismerősöd, a felesleges kilóktól megszabadulni? \nSzeretnéd az i
 deális formádat visszanyerni és megtartani?\nKudarcot vallott minden kor
 ábbi fogyókúra-kísérleted?\nNem érted, mitől jönnek vissza a kilók
 ? \nNem érted, miért nem bírod magad visszafogni az evéssel?\nVagy egys
 zerűen csak szeretnéd jól érezni magad a bőrödben?\n\nAz elhízás 
 mindössze” egy tünet, melynek több egyszerű oka is lehet.\nEzeket el
 emezzük a biologika tükrében, hogy "könnyítsen a Te életeden is!\n&nb
 sp;\n\n\nA tematikából:\n\n\n\n- a hosszabb idő alatt felhízlalt „nag
 y test nagy emésztőrendszer”&nbsp;\n- a tartós, hosszú vese-gyűjtőc
 satorna különprogram, az enyhe gyakran észrevétlen oliguriával \n&nbsp
 ;&nbsp; (normálisnál, elvárhatónál kevesebb vizelet) ami a test viszon
 ylag egyenletes felpuffadásához vezethet.\n- a gyorsan megjelenő narancs
 bőr biológiai háttere.\n- miben különböznek a zsírdaganatok az elhí
 zás miatti zsírosodástól?\n- a túlzott evési vágy biológiai hátter
 e.\n&nbsp;&nbsp; Ha hiszed, ha nem, még a túlzott evési vágy hátteréb
 en is lelki, érzelmi kilengés áll! \n&nbsp;&nbsp; Ha ezt megérted, - me
 gszűnik az ellenállhatatlan evési kényszer, - lemegy rólad a rengeteg 
 zsír és víz, \n&nbsp;&nbsp; ami a biológiai háttér és működés ism
 erete nélkül mind leküzdhetetlen akadály!&nbsp;\n\n\n\n\n\n\n"Mert a te
 rmészetet nem lehet legyőzni, csak megérteni."\n\n\n&nbsp;\n\n\nSegíts 
 másoknak is, adj nekik esélyt, hogy megérthessék a biológiai folyamata
 ikat!\n\n\nHozd magaddal ismerőseidet, barátaidat, rokonaidat! \n\n\n&nbs
 p;\n
CONTACT:
 
 
 
 
 Ez az email cím védett a spam robotoktól, a megtekintéséhez engedélyezni kell a Javascriptet.
 
 
 

DTSTAMP:20260424T081726Z
DTSTART:20140426T080000Z
DTEND:20140426T160000Z
SEQUENCE:0
TRANSP:OPAQUE
END:VEVENT
END:VCALENDAR