BEGIN:VCALENDAR
VERSION:2.0
PRODID:-//jEvents 1.5 for Joomla//EN
BEGIN:VEVENT
CALSCALE:GREGORIAN
METHOD:PUBLISH

UID:c4d058d516aec555154b54aba3e66c32
CATEGORIES:Egyéb kapcsolódó tanfolyam
SUMMARY:BarnaiR: BIOLOGIKA Párkapcsolati tréning 1/2 (Budapest)
LOCATION:Budapest, szervezés alatt
DESCRIPTION;ENCODING=QUOTED-PRINTABLE:<p>&nbsp;</p><p><b><span style="font-size: 12pt;">PÁRKAPCSOLATI TRÉNING<b
 r /></span></b><b><span style="font-size: 12pt;">2 napos tanfolyam<span cla
 ss="Apple-converted-space">&nbsp;</span></span></b><b><span style="font-siz
 e: 12pt;"><span style="color: #003366;">Budapesten</span></span></b></p><p>
 &nbsp;</p><p><span style="font-size: 10pt;">témakör: párkapcsolat, viszo
 nyok, emberi kapcsolatok</span></p><p><span style="font-size: 10pt;">kateg
 ria: biologika, élettan</span></p><p><span style="font-size: 10pt;">típu
 s: workshop gyakorlatokkal</span>&nbsp;</p><p><span style="font-size: 10pt;
 ">létszámkorlát: <b><span style="color: #800000;"><span style="font-size
 : 10pt;">15 fő</span></span></b></span>&nbsp;</p><p><span style="font-size
 : 10pt;">tréner:<span class="Apple-converted-space">&nbsp;</span></span><s
 pan style="font-size: 10pt;"><strong>Barnai Roberto</strong>, Biologika, ú
 j medicina tréner, konzulens,</span><span style="font-size: 10pt;"><span s
 tyle="font-size: 10pt;"> </span><span style="font-size: 8pt;"><a href="part
 nereink/barnai-roberto.html">http://biologika.hu/partnereink/barnai-roberto
 .html</a> </span></span></p><p><span style="font-size: 10pt;">helyszín:<st
 rong><span class="Apple-converted-space"> Budapest</span></strong></span><s
 pan style="font-size: 10pt;">, szervezés alatt</span>&nbsp;</p><p><span st
 yle="font-size: 10pt;">időtartam: 2 napos, <strong>2014. április 5., 12.<
 /strong>&nbsp;</span></p><p><span style="font-size: 10pt;">ebédszünet: <s
 trong>13</strong></span><span style="font-size: 10pt;">-<strong>14</strong>
  <strong>óráig</strong></span>&nbsp;</p><p><span style="font-size: 10pt;"
 >előfeltétel:<span class="Apple-converted-space"> </span></span><span sty
 le="font-size: 10pt;"><span style="font-size: 10pt;">A párkapcsolati képz
 ésen csak az vehet részt, aki betöltötte a <span style="color: #800000;
 "><strong>18 éves</strong></span> életkort</span><span style="font-size: 
 10pt;">.&nbsp;</span></span></p><p><span style="font-size: 10pt;"><br />ré
 szvételi díj (2 nap):<span class="Apple-converted-space">&nbsp;</span><b>
 50.000,- Ft / fő</b>, ha <strong><span style="color: #ff0000;">április 3-
 ig (meghosszabbítva)</span></strong> jelentkezel <strong>40.000,- Ft / fő
 </strong></span></p><p><span style="font-size: 10pt;">ismétlő vagy korked
 vezmény (60 felett) érvényesítése esetén <span style="font-size: 10pt
 ;">a részvételi díj<span class="Apple-converted-space">&nbsp;</span><b>2
 0.000,- Ft / fő</b></span> &nbsp;</span></p><p><span style="font-size: 10p
 t;">beiratkozás:<span class="Apple-converted-space">&nbsp;</span></span><b
 ><span style="color: #800000;"><span style="font-size: 10pt;">írásos elő
 regisztráció kötelező</span></span></b><span style="font-size: 10pt;"><
 span class="Apple-converted-space">&nbsp;</span>a<span class="Apple-convert
 ed-space">&nbsp;</span>leírás aljánál megadott e-mail címen</span><spa
 n style="font-size: 10pt;">&nbsp;</span></p><p><span style="font-size: 10pt
 ;">jelentkezési határidő: <b><span style="color: #800000;"><span style="
 font-size: 10pt;">2014. április 4.</span></span></b> </span></p><p>&nbsp;<
 /p><p><span style="font-size: 10pt;"><strong>Leírás, tematika:</strong></
 span></p><p><span style="font-size: 10pt;">PÁRKAPCSOLATI tréning (koeduk
 lt)</span><br /><span style="font-size: 10pt;">Párkapcsolat a biologika t
 ükrében<br /></span>&nbsp;</p><p style="margin-left: 30px;"><span style="
 font-size: 10pt;">2 napos, biologikus szemléletű párkapcsolati és önis
 mereti tréning.&nbsp;<br /></span></p><p style="margin-left: 30px;"><span 
 style="font-size: 10pt;">A párkapcsolat a biologika tükrében újdonság 
 a Biologika Szabadegyetem palettáján. Ha érdekel a párkapcsolat biologi
 kus szemmel, ha kíváncsi vagy, mire érdemes odafigyelni párválasztásk
 or, milyen hatással van a biológiai oldalúság (jobb- és balkezűség) 
 az összhang megteremtésére, ismerd meg a tematikát:</span><br /><br /><
 span style="font-size: 10pt;">A férfi (mint lény, mint test, és biológi
 ai funkció) </span><br /><span style="font-size: 10pt;">A nő (mint lény,
  mint test, és biológiai funkció)</span><br /><span style="font-size: 10
 pt;">Szellem a gépezetben</span><br /><span style="font-size: 10pt;">Inkar
 náció</span><br /><span style="font-size: 10pt;">Társas lét</span><br /
 ><span style="font-size: 10pt;">Párkapcsolat</span><br /><span style="font
 -size: 10pt;">Érettség/alkalmasság</span><br /><span style="font-size: 1
 0pt;">A biológiai csali</span><br /><span style="font-size: 10pt;">A csoda
 </span><br /><span style="font-size: 10pt;">Szerelem</span><br /><span styl
 e="font-size: 10pt;">Gyermekvállalás (később)</span><br /><span style="
 font-size: 10pt;">Párválasztás és kapcsolattervezés</span><br /><span 
 style="font-size: 10pt;">Célok és fontosságok tisztázása</span><br /><
 span style="font-size: 10pt;">Személyleírás – "pizzarendelés"</span><
 br /><span style="font-size: 10pt;"> külső, belső, családi háttér, te
 rmészete, stb.</span><br /><span style="font-size: 10pt;">Döntéshozatal 
 legkésőbbi időpontja</span><br /><span style="font-size: 10pt;">Határid
 ő hosszabbítás</span><br /><span style="font-size: 10pt;">A nagy találk
 ozás helyszíne, időpontja</span><br /><span style="font-size: 10pt;">Az 
 ismerkedés időszaka</span><br /><span style="font-size: 10pt;">Szükségl
 etek kiderítése</span><br /><span style="font-size: 10pt;">A játszmázá
 s lehetséges kezdete</span><br /><span style="font-size: 10pt;">Találkozg
 atás </span><br /><span style="font-size: 10pt;">Testi kontaktus haladás 
 léptéke</span><br /><span style="font-size: 10pt;">Önuralom</span><br />
 <span style="font-size: 10pt;">Fogamzásgátlás</span><br /><span style="f
 ont-size: 10pt;">Összeköltözés</span><br /><span style="font-size: 10pt
 ;">Tesztidőszak (PP) lehetséges kezdete</span><br /><span style="font-siz
 e: 10pt;">Türelem, az első néhány hónap döntő lehet</span><br /><spa
 n style="font-size: 10pt;">"Együttlakva ismeri meg az ember a másikat" (a
 z "igazival" is ajánlott legalább egy év)</span><br /><span style="font-
 size: 10pt;">Családalapítás-tervezés</span><br /><span style="font-size
 : 10pt;">Gyermekvállalás</span><br /><span style="font-size: 10pt;">Szell
 emi érettség/körülmények/az apa együttműködése a várandósság so
 rán</span><br /><span style="font-size: 10pt;">Tájékozottság/gondolkoz
 s/felelősségvállalás</span><br /><span style="font-size: 10pt;">A biol
 ogikus gondolkodás</span><br /><span style="font-size: 10pt;">Szülés/sz
 letés megtervezése (opcionális)<br /></span>&nbsp;</p><p><span style="f
 ont-size: 10pt;"><br />Jelentkezéskor add meg:</span><br /><span style="fo
 nt-size: 10pt;">1.) a tréning nevét, helyszínét és időpontját(!)</sp
 an><br /><span style="font-size: 10pt;">2.) pontos nevedet</span><br /><spa
 n style="font-size: 10pt;">3.) mobil számodat</span><br /><span style="fon
 t-size: 10pt;">4.) e-mail címedet</span><br /><span style="font-size: 10pt
 ;">5.) kedvezmény alapját (ha jogosult vagy)</span></p><p><span style="fo
 nt-size: 10pt;"></span><span style="font-size: 10pt;"><br /></span></p>
CONTACT:
 
 
 
 
 Ez az email cím védett a spam robotoktól, a megtekintéséhez engedélyezni kell a Javascriptet.
 
 
 

DTSTAMP:20260424T081102Z
DTSTART:20140405T080000Z
DTEND:20140405T160000Z
SEQUENCE:0
TRANSP:OPAQUE
END:VEVENT
END:VCALENDAR